BEGIN:VCALENDAR
VERSION:2.0
PRODID:-//Huber Racing - ECPv6.15.20//NONSGML v1.0//EN
CALSCALE:GREGORIAN
METHOD:PUBLISH
X-ORIGINAL-URL:https://huberracing.de
X-WR-CALDESC:Veranstaltungen für Huber Racing
REFRESH-INTERVAL;VALUE=DURATION:PT1H
X-Robots-Tag:noindex
X-PUBLISHED-TTL:PT1H
BEGIN:VTIMEZONE
TZID:UTC
BEGIN:STANDARD
TZOFFSETFROM:+0000
TZOFFSETTO:+0000
TZNAME:UTC
DTSTART:20220101T000000
END:STANDARD
END:VTIMEZONE
BEGIN:VEVENT
DTSTART;VALUE=DATE:20230804
DTEND;VALUE=DATE:20230807
DTSTAMP:20260421T110345
CREATED:20230725T121939Z
LAST-MODIFIED:20230725T121939Z
UID:690-1691107200-1691366399@huberracing.de
SUMMARY:Porsche Carrera Cup Deutschland - Nürburgring
DESCRIPTION:
URL:https://huberracing.de/event/porsche-carrera-cup-deutschland-nuerburgring/
END:VEVENT
END:VCALENDAR