BEGIN:VCALENDAR
VERSION:2.0
PRODID:-//Huber Racing - ECPv6.15.20//NONSGML v1.0//EN
CALSCALE:GREGORIAN
METHOD:PUBLISH
X-WR-CALNAME:Huber Racing
X-ORIGINAL-URL:https://huberracing.de
X-WR-CALDESC:Veranstaltungen für Huber Racing
REFRESH-INTERVAL;VALUE=DURATION:PT1H
X-Robots-Tag:noindex
X-PUBLISHED-TTL:PT1H
BEGIN:VTIMEZONE
TZID:UTC
BEGIN:STANDARD
TZOFFSETFROM:+0000
TZOFFSETTO:+0000
TZNAME:UTC
DTSTART:20230101T000000
END:STANDARD
END:VTIMEZONE
BEGIN:VEVENT
DTSTART;TZID=UTC:20240425T080000
DTEND;TZID=UTC:20240427T170000
DTSTAMP:20260420T213550
CREATED:20240405T161920Z
LAST-MODIFIED:20240405T161920Z
UID:927-1714032000-1714237200@huberracing.de
SUMMARY:Porsche Sports Cup Suisse Red Bull Ring (A)
DESCRIPTION:
URL:https://huberracing.de/event/porsche-sports-cup-suisse-red-bull-ring-a/
END:VEVENT
BEGIN:VEVENT
DTSTART;TZID=UTC:20240426T080000
DTEND;TZID=UTC:20240428T170000
DTSTAMP:20260420T213550
CREATED:20240404T121315Z
LAST-MODIFIED:20240404T121315Z
UID:875-1714118400-1714323600@huberracing.de
SUMMARY:Porsche Sixt Carrera Cup DTM Oschersleben
DESCRIPTION:
URL:https://huberracing.de/event/porsche-sixt-carrera-cup-dtm-oschersleben/
END:VEVENT
END:VCALENDAR