BEGIN:VCALENDAR
VERSION:2.0
PRODID:-//Huber Racing - ECPv6.15.20//NONSGML v1.0//EN
CALSCALE:GREGORIAN
METHOD:PUBLISH
X-ORIGINAL-URL:https://huberracing.de
X-WR-CALDESC:Veranstaltungen für Huber Racing
REFRESH-INTERVAL;VALUE=DURATION:PT1H
X-Robots-Tag:noindex
X-PUBLISHED-TTL:PT1H
BEGIN:VTIMEZONE
TZID:UTC
BEGIN:STANDARD
TZOFFSETFROM:+0000
TZOFFSETTO:+0000
TZNAME:UTC
DTSTART:20230101T000000
END:STANDARD
END:VTIMEZONE
BEGIN:VEVENT
DTSTART;TZID=UTC:20240621T080000
DTEND;TZID=UTC:20240623T170000
DTSTAMP:20260420T181239
CREATED:20240404T121441Z
LAST-MODIFIED:20240404T121441Z
UID:879-1718956800-1719162000@huberracing.de
SUMMARY:Porsche Sixt Carrera Cup GTO Budapest
DESCRIPTION:
URL:https://huberracing.de/event/porsche-sixt-carrera-cup-gto-budapest/
END:VEVENT
BEGIN:VEVENT
DTSTART;TZID=UTC:20240621T080000
DTEND;TZID=UTC:20240623T170000
DTSTAMP:20260420T181239
CREATED:20240405T162146Z
LAST-MODIFIED:20240405T162146Z
UID:935-1718956800-1719162000@huberracing.de
SUMMARY:Porsche Sports Cup Suisse Imola (I)
DESCRIPTION:
URL:https://huberracing.de/event/porsche-sports-cup-suisse-imola-i/
END:VEVENT
END:VCALENDAR