BEGIN:VCALENDAR
VERSION:2.0
PRODID:-//Huber Racing - ECPv6.15.20//NONSGML v1.0//EN
CALSCALE:GREGORIAN
METHOD:PUBLISH
X-ORIGINAL-URL:https://huberracing.de
X-WR-CALDESC:Veranstaltungen für Huber Racing
REFRESH-INTERVAL;VALUE=DURATION:PT1H
X-Robots-Tag:noindex
X-PUBLISHED-TTL:PT1H
BEGIN:VTIMEZONE
TZID:UTC
BEGIN:STANDARD
TZOFFSETFROM:+0000
TZOFFSETTO:+0000
TZNAME:UTC
DTSTART:20230101T000000
END:STANDARD
END:VTIMEZONE
BEGIN:VEVENT
DTSTART;TZID=UTC:20240719T080000
DTEND;TZID=UTC:20240721T170000
DTSTAMP:20260420T162005
CREATED:20240404T115819Z
LAST-MODIFIED:20240404T115819Z
UID:865-1721376000-1721581200@huberracing.de
SUMMARY:Porsche Mobil 1 Supercup HUNGARIAN GRAND PRIX\, BUDAPEST
DESCRIPTION:
URL:https://huberracing.de/event/porsche-mobil-1-supercup-hungarian-grand-prix-budapest/
END:VEVENT
END:VCALENDAR