BEGIN:VCALENDAR
VERSION:2.0
PRODID:-//Huber Racing - ECPv6.15.20//NONSGML v1.0//EN
CALSCALE:GREGORIAN
METHOD:PUBLISH
X-WR-CALNAME:Huber Racing
X-ORIGINAL-URL:https://huberracing.de
X-WR-CALDESC:Veranstaltungen für Huber Racing
REFRESH-INTERVAL;VALUE=DURATION:PT1H
X-Robots-Tag:noindex
X-PUBLISHED-TTL:PT1H
BEGIN:VTIMEZONE
TZID:UTC
BEGIN:STANDARD
TZOFFSETFROM:+0000
TZOFFSETTO:+0000
TZNAME:UTC
DTSTART:20220101T000000
END:STANDARD
END:VTIMEZONE
BEGIN:VEVENT
DTSTART;VALUE=DATE:20230901
DTEND;VALUE=DATE:20230904
DTSTAMP:20260421T081054
CREATED:20230725T122141Z
LAST-MODIFIED:20230725T122141Z
UID:698-1693526400-1693785599@huberracing.de
SUMMARY:Porsche Mobil 1 Supercup – Monza
DESCRIPTION:
URL:https://huberracing.de/event/porsche-mobil-1-supercup-monza/
END:VEVENT
BEGIN:VEVENT
DTSTART;VALUE=DATE:20230908
DTEND;VALUE=DATE:20230911
DTSTAMP:20260421T081054
CREATED:20230725T122204Z
LAST-MODIFIED:20230725T122204Z
UID:700-1694131200-1694390399@huberracing.de
SUMMARY:Porsche Carrera Cup Deutschland/ADAC GT Masters – Sachsenring
DESCRIPTION:
URL:https://huberracing.de/event/porsche-carrera-cup-deutschland-adac-gt-masters-sachsenring/
END:VEVENT
BEGIN:VEVENT
DTSTART;VALUE=DATE:20230908
DTEND;VALUE=DATE:20230911
DTSTAMP:20260421T081054
CREATED:20230725T122223Z
LAST-MODIFIED:20230725T122223Z
UID:702-1694131200-1694390399@huberracing.de
SUMMARY:Porsche Carrera Cup Benelux – Zolder
DESCRIPTION:
URL:https://huberracing.de/event/porsche-carrera-cup-benelux-zolder/
END:VEVENT
BEGIN:VEVENT
DTSTART;VALUE=DATE:20230922
DTEND;VALUE=DATE:20230925
DTSTAMP:20260421T081054
CREATED:20230725T122243Z
LAST-MODIFIED:20230725T122243Z
UID:704-1695340800-1695599999@huberracing.de
SUMMARY:Porsche Carrera Cup Deutschland/Benelux/ADAC GT Masters – Red Bull Ring
DESCRIPTION:
URL:https://huberracing.de/event/porsche-carrera-cup-deutschland-benelux-adac-gt-masters-red-bull-ring/
END:VEVENT
END:VCALENDAR