BEGIN:VCALENDAR
VERSION:2.0
PRODID:-//Huber Racing - ECPv6.15.20//NONSGML v1.0//EN
CALSCALE:GREGORIAN
METHOD:PUBLISH
X-ORIGINAL-URL:https://huberracing.de
X-WR-CALDESC:Veranstaltungen für Huber Racing
REFRESH-INTERVAL;VALUE=DURATION:PT1H
X-Robots-Tag:noindex
X-PUBLISHED-TTL:PT1H
BEGIN:VTIMEZONE
TZID:UTC
BEGIN:STANDARD
TZOFFSETFROM:+0000
TZOFFSETTO:+0000
TZNAME:UTC
DTSTART:20220101T000000
END:STANDARD
END:VTIMEZONE
BEGIN:VEVENT
DTSTART;VALUE=DATE:20231020
DTEND;VALUE=DATE:20231023
DTSTAMP:20260421T061744
CREATED:20230725T122301Z
LAST-MODIFIED:20230725T122301Z
UID:706-1697760000-1698019199@huberracing.de
SUMMARY:Porsche Carrera Cup Deutschland/ADAC GT Masters – Hockenheimring
DESCRIPTION:
URL:https://huberracing.de/event/porsche-carrera-cup-deutschland-adac-gt-masters-hockenheimring/
END:VEVENT
END:VCALENDAR